BEGIN:VCALENDAR
PRODID:-//AT Content Types//AT Event//EN
VERSION:1.0
BEGIN:VEVENT
DTSTART:20190826T170000Z
DTEND:20190828T230000Z
DCREATED:20190813T135005Z
UID:ATEvent-e0927a0124724189990b6c576e0bc9ba
SEQUENCE:0
LAST-MODIFIED:20210426T205430Z
SUMMARY:Os 40 Anos da Anistia e o Legado das Ditaduras na América Latina
LOCATION:Centro Universitário Maria Antonia\, Rua Maria Antônia\, 258/294\, Vila Buarque\, São Paulo
PRIORITY:3
TRANSP:0
END:VEVENT
END:VCALENDAR
