BEGIN:VCALENDAR
PRODID:-//AT Content Types//AT Event//EN
VERSION:2.0
METHOD:PUBLISH
BEGIN:VEVENT
DTSTAMP:20260419T160449Z
CREATED:20220808T191641Z
UID:ATEvent-1151185d79c241f79fd109c8d8682ff2
LAST-MODIFIED:20230612T131226Z
SUMMARY:Inteligência Artificial Centrada no Ser Humano: Garantindo o Controle Humano enquanto Avança a Automação
DTSTART:20220826T180000Z
DTEND:20220826T200000Z
LOCATION:ON-LINE
CATEGORIES:Cátedra Oscar Sala, Evento público, Evento online, Artificial Intelligence
CONTACT:Cláudia R. Pereira\, 11 3091-1686\, clauregi@usp.br
URL:http://www.iea.usp.br/aovivo
CLASS:PUBLIC
END:VEVENT
END:VCALENDAR
