BEGIN:VCALENDAR
PRODID:-//AT Content Types//AT Event//EN
VERSION:1.0
BEGIN:VEVENT
DTSTART:20200610T190000Z
DTEND:20200610T210000Z
DCREATED:20200525T120106Z
UID:ATEvent-89e0453e54c4487f80a2fbb0cc29376e
SEQUENCE:0
LAST-MODIFIED:20200703T191849Z
SUMMARY:Vetores Saudáveis: Desenvolvimento de Medicamentos e Vacinas para a Covid-19 e os Desafios em Saúde no Brasil
LOCATION:On-line
PRIORITY:3
TRANSP:0
END:VEVENT
END:VCALENDAR
