BEGIN:VCALENDAR
PRODID:-//AT Content Types//AT Event//EN
VERSION:2.0
METHOD:PUBLISH
BEGIN:VEVENT
DTSTAMP:20260422T192050Z
CREATED:20200505T110722Z
UID:ATEvent-dffc897cbdb84cab90a32504acbef06b
LAST-MODIFIED:20200519T165356Z
SUMMARY:Vetores Saudáveis: Possível Reconfiguração dos Modelos Educacionais Pós-Pandemia (WEBINÁRIO)
DTSTART:20200514T180000Z
DTEND:20200514T193000Z
DESCRIPTION:
LOCATION:on-line
CATEGORIES:Educação, Evento público, Evento online, Strategic Workshops, ACIESP, Covid-19, Pandemia, Pró-Reitoria de Pequisa da Universidade de São Paulo, IEA
CONTACT:Sandra Sedini\, sedini@usp.br
CLASS:PUBLIC
END:VEVENT
END:VCALENDAR
