BEGIN:VCALENDAR
PRODID:-//AT Content Types//AT Event//EN
VERSION:1.0
BEGIN:VEVENT
DTSTART:20150915T180000Z
DTEND:20150915T210000Z
DCREATED:20150831T194954Z
UID:ATEvent-e1db1b1a8264435eb050ee792ce77199
SEQUENCE:0
LAST-MODIFIED:20180803T195752Z
SUMMARY:A Crise Hídrica e a Mídia
LOCATION:Sala de Eventos do IEA\,  Rua da Praça do Relógio,109\, bloco K\, 5º andar\, Butantã\, São Paulo
PRIORITY:3
TRANSP:0
END:VEVENT
END:VCALENDAR
