BEGIN:VCALENDAR
PRODID:-//AT Content Types//AT Event//EN
VERSION:2.0
METHOD:PUBLISH
BEGIN:VEVENT
DTSTAMP:20260424T045254Z
CREATED:20190802T190301Z
UID:ATEvent-ab2e00c3bc9141828e38def59436aaf2
LAST-MODIFIED:20200212T174621Z
SUMMARY:A Inovação na Pesquisa em Obesidade Infantil e Adolescente
DTSTART:20191129T103000Z
DTEND:20191129T193000Z
LOCATION:Auditório IEA\, Rua Praça do Relógio\, 109\, Cidade Universitária\, São Paulo
CATEGORIES:Infância, Evento público, Saúde, Grupo de Pesquisa Saúde Infantil
CONTACT:Cláudia R. Pereira\, 11 3091-1686\, clauregi@usp.br
URL:http://www.iea.usp.br/aovivo
CLASS:PUBLIC
END:VEVENT
END:VCALENDAR
