BEGIN:VCALENDAR
PRODID:-//AT Content Types//AT Event//EN
VERSION:1.0
BEGIN:VEVENT
DTSTART:20210909T180000Z
DTEND:20210909T200000Z
DCREATED:20210901T135029Z
UID:ATEvent-21320c78da184188bde4d3c0e717bac4
SEQUENCE:0
LAST-MODIFIED:20211027T163542Z
SUMMARY:Admiráveis Pensamentos Novos
LOCATION:On-line
PRIORITY:3
TRANSP:0
END:VEVENT
END:VCALENDAR
