BEGIN:VCALENDAR
PRODID:-//AT Content Types//AT Event//EN
VERSION:1.0
BEGIN:VEVENT
DTSTART:20250415T163000Z
DTEND:20250415T203000Z
DCREATED:20250318T132105Z
UID:ATEvent-d9777286dc684003a51a7bb5e782b9eb
SEQUENCE:0
LAST-MODIFIED:20250616T141743Z
SUMMARY:Agricultura e Clima
DESCRIPTION:RESSIGNIFICANDO REFLEXÕES A PARTIR DAS
LOCATION:Sala Alfredo Bosi\, Rua Praça do Relógio\, 109\, Cidade Universitária\, São Paulo
PRIORITY:3
TRANSP:0
END:VEVENT
END:VCALENDAR
