BEGIN:VCALENDAR
PRODID:-//AT Content Types//AT Event//EN
VERSION:2.0
METHOD:PUBLISH
BEGIN:VEVENT
DTSTAMP:20260423T150416Z
CREATED:20210826T115418Z
UID:ATEvent-6799223b0a12495aa1d9794dfecbd2a6
LAST-MODIFIED:20210924T175402Z
SUMMARY:Amálgamas Culturais e Representações Imagéticas na Província Jesuítica do Paraguai
DTSTART:20210831T173000Z
DTEND:20210831T193000Z
LOCATION:ON-LINE
CATEGORIES:Evento público, Evento online, Indígenas, Cultura, Grupo de Pesquisa Tempo, Memória e Pertencimento
CONTACT:Cláudia R.\, Pereira\, 11 3091-1686\, clauregi@usp.br
URL:http://www.iea.usp.br/aovivo
CLASS:PUBLIC
END:VEVENT
END:VCALENDAR
