BEGIN:VCALENDAR
PRODID:-//AT Content Types//AT Event//EN
VERSION:2.0
METHOD:PUBLISH
BEGIN:VEVENT
DTSTAMP:20260425T015059Z
CREATED:20170710T145412Z
UID:ATEvent-5dc23a967b9e401e83a35ac752b877b6
LAST-MODIFIED:20180511T135215Z
SUMMARY:Arnaldo Vieira de Carvalho e a Produção de Vacina Antivariólica em São Paulo
DTSTART:20170816T173000Z
DTEND:20170816T200000Z
LOCATION:Sala de Eventos do IEA\, Rua da Praça do Relógio\, 109\, Bloco K\, 5° andar\, Butantã\, São Paulo
CATEGORIES:Medicina, Evento público, Health, Grupo de Pesquisa Khronos: História da Ciência, Epistemologia e Medicina
CONTACT:Cláudia R. Pereira\, 3091-1686\, clauregi@usp.br
URL:http://www.iea.usp.br/aoovivo
CLASS:PUBLIC
END:VEVENT
END:VCALENDAR
