BEGIN:VCALENDAR
PRODID:-//AT Content Types//AT Event//EN
VERSION:1.0
BEGIN:VEVENT
DTSTART:20210210T120000Z
DTEND:20210210T140000Z
DCREATED:20210119T173446Z
UID:ATEvent-c264dc6c9b6f413dbc3de1f11de90696
SEQUENCE:0
LAST-MODIFIED:20210702T151957Z
SUMMARY:Aspectos Políticos da Implantação de 5G no Brasil
LOCATION:ON-LINE
PRIORITY:3
TRANSP:0
END:VEVENT
END:VCALENDAR
