BEGIN:VCALENDAR
PRODID:-//AT Content Types//AT Event//EN
VERSION:1.0
BEGIN:VEVENT
DTSTART:20241025T173000Z
DTEND:20241025T193000Z
DCREATED:20241017T163211Z
UID:ATEvent-374bb2efe53643c4abdb909a2da2f84a
SEQUENCE:0
LAST-MODIFIED:20250210T180007Z
SUMMARY:Barroco: Memória Viva
LOCATION:ON-LINE
PRIORITY:3
TRANSP:0
END:VEVENT
END:VCALENDAR
