BEGIN:VCALENDAR
PRODID:-//AT Content Types//AT Event//EN
VERSION:2.0
METHOD:PUBLISH
BEGIN:VEVENT
DTSTAMP:20260420T105024Z
CREATED:20150202T183625Z
UID:ATEvent-5d4ee50aa3ff45ca89402db13691120e
LAST-MODIFIED:20160202T133455Z
SUMMARY:Workshop On Bose-Einstein Condensation and Quantum Chaos
DTSTART:20150330T130000Z
DTEND:20150402T200000Z
LOCATION:Sala de Eventos IEA\, Rua Praça do Relógio\, 109\, bl. K\, 5º andar\, Cidade Universitária
CATEGORIES:Astrophysics, Evento público, Grupo de Pesquisa Astrofísica Nuclear Não Convencional, Ciências Exatas
CONTACT:Cláudia R. Tavares\, 11 3091-1686\, clauregi@usp.br
URL:http://www.iea.usp.br/aovivo
CLASS:PUBLIC
END:VEVENT
END:VCALENDAR
