BEGIN:VCALENDAR
PRODID:-//AT Content Types//AT Event//EN
VERSION:2.0
METHOD:PUBLISH
BEGIN:VEVENT
DTSTAMP:20260423T194127Z
CREATED:20200708T174115Z
UID:ATEvent-74b86c137038483ead61399ee0ce66f6
LAST-MODIFIED:20200723T124618Z
SUMMARY:Brasileiros no Exterior: as Contribuições da Diáspora de Ciência,Tecnologia e Inovação para o Desenvolvimento do País
DTSTART:20200723T130000Z
DTEND:20200723T150000Z
LOCATION:On-line
CATEGORIES:Evento público, NUPPs, Evento online, CT&I
CONTACT:eventos@nepp.unicamp.br\, eventos@nepp.unicamp.br
CLASS:PUBLIC
END:VEVENT
END:VCALENDAR
