BEGIN:VCALENDAR
PRODID:-//AT Content Types//AT Event//EN
VERSION:1.0
BEGIN:VEVENT
DTSTART:20141106T120000Z
DTEND:20141107T203000Z
DCREATED:20141008T195630Z
UID:ATEvent-7757f6d878bf4ceba0a16cd2d1aa12e3
SEQUENCE:0
LAST-MODIFIED:20150929T130601Z
SUMMARY:Memória\, arte e educação em direitos humanos (Mesas-redondas)
LOCATION:Sala de Eventos do IEA\, Rua Praça do Relógio\, 109\, bloco K\, 5º andar\, Cidade Universitária\, São Paulo
PRIORITY:3
TRANSP:0
END:VEVENT
END:VCALENDAR
