BEGIN:VCALENDAR
PRODID:-//AT Content Types//AT Event//EN
VERSION:1.0
BEGIN:VEVENT
DTSTART:20190221T210000Z
DTEND:20190222T000000Z
DCREATED:20190128T200026Z
UID:ATEvent-63b17ea0475e4aa48e77dba245f62a89
SEQUENCE:0
LAST-MODIFIED:20240606T184902Z
SUMMARY:Lançamento Cátedra de Educação Básica da USP
DESCRIPTION:CÁTEDRA EDUCAÇÃO BÁSICA
LOCATION:Museu de Arte Contemporânea da USP - Avenida Pedro Álvares Cabral\, 1301\, São Paulo\, SP
PRIORITY:3
TRANSP:0
END:VEVENT
END:VCALENDAR
