BEGIN:VCALENDAR
PRODID:-//AT Content Types//AT Event//EN
VERSION:1.0
BEGIN:VEVENT
DTSTART:20190316T120000Z
DTEND:20190316T210000Z
DCREATED:20190212T155231Z
UID:ATEvent-3749e7fdc03341c1b3e03bddbc9a2a78
SEQUENCE:0
LAST-MODIFIED:20240606T192616Z
SUMMARY:Ciclo Ação e Formação do Professor: Profissionalismo e Competência (1º Encontro)
DESCRIPTION:CÁTEDRA EDUCAÇÃO BÁSICA 2019
LOCATION:Auditório Nicolau Sevcenko\, FFLCH/USP\, Av. Prof. Lineu Prestes\, 338\, Cidade Universitária\, São Paulo
PRIORITY:3
TRANSP:0
END:VEVENT
END:VCALENDAR
