BEGIN:VCALENDAR
PRODID:-//AT Content Types//AT Event//EN
VERSION:1.0
BEGIN:VEVENT
DTSTART:20190831T120000Z
DTEND:20190831T200000Z
DCREATED:20190801T203325Z
UID:ATEvent-c926d5c4bca44cf9b10929f24cd75cb1
SEQUENCE:0
LAST-MODIFIED:20240606T192850Z
SUMMARY:Escola\, Diversidade e Equidade
DESCRIPTION:CÁTEDRA EDUCAÇÃO BÁSICA 2019
LOCATION:Auditório Abrahão de Moraes\, Instituto de Física da USP\, Rua do Matão\, 1371\, CEP 05508-090\, Cidade Universitária\, São Paulo
PRIORITY:3
TRANSP:0
END:VEVENT
END:VCALENDAR
