BEGIN:VCALENDAR
PRODID:-//AT Content Types//AT Event//EN
VERSION:1.0
BEGIN:VEVENT
DTSTART:20190928T120000Z
DTEND:20190928T200000Z
DCREATED:20190823T124703Z
UID:ATEvent-199e663490874b7b912c262231712d41
SEQUENCE:0
LAST-MODIFIED:20240606T192919Z
SUMMARY:Fragmentação Disciplinar e Transdisciplinaridade
DESCRIPTION:CÁTEDRA EDUCAÇÃO BÁSICA 2019
LOCATION:Auditório IEA\, Rua da Biblioteca\, 128\, Cidade Universitária\, São Paulo
PRIORITY:3
TRANSP:0
END:VEVENT
END:VCALENDAR
