BEGIN:VCALENDAR
PRODID:-//AT Content Types//AT Event//EN
VERSION:1.0
BEGIN:VEVENT
DTSTART:20191026T120000Z
DTEND:20191026T200000Z
DCREATED:20190823T134722Z
UID:ATEvent-e2e5439392014af09548cf011b7bf595
SEQUENCE:0
LAST-MODIFIED:20240606T192949Z
SUMMARY:Escola: Gestão e Docência
DESCRIPTION:CÁTEDRA EDUCAÇÃO BÁSICA 2019
LOCATION:Auditório do IEA\, Rua Praça do Relógio\, 109\, Cidade Universitária\, São Paulo
PRIORITY:3
TRANSP:0
END:VEVENT
END:VCALENDAR
