BEGIN:VCALENDAR
PRODID:-//AT Content Types//AT Event//EN
VERSION:1.0
BEGIN:VEVENT
DTSTART:20191130T110000Z
DTEND:20191130T190000Z
DCREATED:20190823T140104Z
UID:ATEvent-02022e1255a24f6db1e5a4a1d7c46737
SEQUENCE:0
LAST-MODIFIED:20240606T193025Z
SUMMARY:Sistematização e Propostas
DESCRIPTION:CÁTEDRA EDUCAÇÃO BÁSICA 2019
LOCATION:Auditório do IEA\, Rua Praça do Relógio\, 109\, Cidade Universitária\, São Paulo
PRIORITY:3
TRANSP:0
END:VEVENT
END:VCALENDAR
