BEGIN:VCALENDAR
PRODID:-//AT Content Types//AT Event//EN
VERSION:2.0
METHOD:PUBLISH
BEGIN:VEVENT
DTSTAMP:20260423T121144Z
CREATED:20220706T123230Z
UID:ATEvent-359fcaa5e628465c9903852acc7a63f0
LAST-MODIFIED:20221125T195931Z
SUMMARY:Escola de Inverno
DTSTART:20220725T180000Z
DTEND:20220730T120000Z
LOCATION:ON-LINE
CATEGORIES:Cátedra de Educação Básica, Evento público, Evento online, Educação
CONTACT:Luciana Granado\, 11 3091-4441\, catedraeducacaobasica@usp.br
CLASS:PUBLIC
END:VEVENT
END:VCALENDAR
