BEGIN:VCALENDAR
PRODID:-//AT Content Types//AT Event//EN
VERSION:2.0
METHOD:PUBLISH
BEGIN:VEVENT
DTSTAMP:20260421T191628Z
CREATED:20220321T142059Z
UID:ATEvent-5b122ae5472a497aa66f08932469fc35
LAST-MODIFIED:20220628T120803Z
SUMMARY:Políticas de Ação Afirmativa (1º Encontro)
DTSTART:20220323T170000Z
DTEND:20220323T200000Z
LOCATION:ON-LINE
CATEGORIES:Cátedra de Educação Básica, Política, Educação
CONTACT:Luciana Granado\, 11 3091-4441\, catedraeducacaobasica@usp.br
CLASS:PUBLIC
END:VEVENT
END:VCALENDAR
