BEGIN:VCALENDAR
PRODID:-//AT Content Types//AT Event//EN
VERSION:1.0
BEGIN:VEVENT
DTSTART:20210929T190000Z
DTEND:20210929T210000Z
DCREATED:20210922T160705Z
UID:ATEvent-e30ec0aca2954c859a09cc91b6c79b71
SEQUENCE:0
LAST-MODIFIED:20210922T165612Z
SUMMARY:Racismo\, Necropolítica e Educação: Impactos da Razão Negra no Cotidiano Escolar (1º Seminário)
LOCATION:ON-LINE
PRIORITY:3
TRANSP:0
END:VEVENT
END:VCALENDAR
