BEGIN:VCALENDAR
PRODID:-//AT Content Types//AT Event//EN
VERSION:1.0
BEGIN:VEVENT
DTSTART:20210413T190000Z
DTEND:20210415T220000Z
DCREATED:20210407T115330Z
UID:ATEvent-8f5f99216fb54206863d4c5f529393b8
SEQUENCE:0
LAST-MODIFIED:20210827T121720Z
SUMMARY:Escola\, Cidade e Cidadania na Formação Docente (Encontro I)
LOCATION:ON-LINE
PRIORITY:3
TRANSP:0
END:VEVENT
END:VCALENDAR
