BEGIN:VCALENDAR
PRODID:-//AT Content Types//AT Event//EN
VERSION:2.0
METHOD:PUBLISH
BEGIN:VEVENT
DTSTAMP:20260425T172016Z
CREATED:20250327T134252Z
UID:ATEvent-7ef458aee04a4393869932e29f9329b6
LAST-MODIFIED:20250701T121734Z
SUMMARY:Reflexões sobre a COP29 e os Desafios Rumo à COP30 em Belém
DTSTART:20250408T170000Z
DTEND:20250408T190000Z
DESCRIPTION:Rumo à COP 30
LOCATION:(*) Sala Alfredo Bosi do IEA\, Rua da Praça do Relógio\, 109\, térreo\, Cidade Universitária\, São Paulo\, SP
CATEGORIES:Ciências Ambientais, Grupo de Pesquisa Meio Ambiente e Sociedade, Evento público, Sustentabilidade, Meio Ambiente, ODS, Política Ambiental, Mudanças Climáticas, Crise Climática, Clima, Governo
CONTACT:Sandra Sedini\, sedini@usp.br
CLASS:PUBLIC
END:VEVENT
END:VCALENDAR
