BEGIN:VCALENDAR
PRODID:-//AT Content Types//AT Event//EN
VERSION:2.0
METHOD:PUBLISH
BEGIN:VEVENT
DTSTAMP:20260423T114759Z
CREATED:20250507T162741Z
UID:ATEvent-fee4df66c935435aa9a72353232e635f
LAST-MODIFIED:20250611T120833Z
SUMMARY:Mediações Territoriais e Fortalecimento dos Territórios Florestais
DTSTART:20250512T120000Z
DTEND:20250512T150000Z
DESCRIPTION:Rumo à COP 30
LOCATION:Sala Alfredo Bosi\, Rua Praça do Relógio\, 109\, Cidade Universitária\, São Paulo
CATEGORIES:Clima, Evento público, Florestas, Grupo de Pesquisa Meio Ambiente e Sociedade
CONTACT:Amanda Carvalho\, amanda.carvalho.matos@usp.br
URL:http://canal do YouTube do IEA
CLASS:PUBLIC
END:VEVENT
END:VCALENDAR
