BEGIN:VCALENDAR
PRODID:-//AT Content Types//AT Event//EN
VERSION:2.0
METHOD:PUBLISH
BEGIN:VEVENT
DTSTAMP:20260423T065847Z
CREATED:20250610T174953Z
UID:ATEvent-71744c5b84604b56b4a7558bbc915c83
LAST-MODIFIED:20251204T133235Z
SUMMARY:O Nordeste na COP30
DTSTART:20250630T130000Z
DTEND:20250630T153000Z
DESCRIPTION:Rumo à COP 30
LOCATION:Sala Alfredo Bosi\, Rua Praça do Relógio\, 109\, Cidade Universitária\, São Paulo
CATEGORIES:Clima, Evento público, Nordeste, Grupo de Pesquisa Meio Ambiente e Sociedade
CONTACT:Cláudia R. Pereira\, 11 3091-1686\, clauregi@usp.br
URL:http://canal do YouTube do IEA
CLASS:PUBLIC
END:VEVENT
END:VCALENDAR
