BEGIN:VCALENDAR
PRODID:-//AT Content Types//AT Event//EN
VERSION:2.0
METHOD:PUBLISH
BEGIN:VEVENT
DTSTAMP:20260425T211441Z
CREATED:20170213T130822Z
UID:ATEvent-52eea10d178b40598d23394d8c1a96b2
LAST-MODIFIED:20170614T192500Z
SUMMARY:Ciência & Indústria – Construindo Novos Caminhos em Tempos Desafiadores
DTSTART:20170619T113000Z
DTEND:20170619T203000Z
LOCATION:Antiga Sala do  Conselho Universitário - Rua da Praça do Relógio\, 109\, térreo\, Butantã\, São Paulo
CATEGORIES:Evento público, Inovação, Strategic Workshops, Pesquisa, ACIESP, Pró-Reitoria de Pequisa da Universidade de São Paulo, Indústria, IEA, C&T
CONTACT:Sandra Sedini\, 11 3091-1678\, sedini@usp.br
URL:http://www.iea.usp.br/aovivo
CLASS:PUBLIC
END:VEVENT
END:VCALENDAR
