BEGIN:VCALENDAR
PRODID:-//AT Content Types//AT Event//EN
VERSION:1.0
BEGIN:VEVENT
DTSTART:20210316T120000Z
DTEND:20210317T220000Z
DCREATED:20200406T121615Z
UID:ATEvent-91bcff251f914d83be65a0b378056c24
SEQUENCE:0
LAST-MODIFIED:20240430T190236Z
SUMMARY:UrbanSus - Encontro Acadêmico: Impacto das Ciências Ambientais na Agenda 2030
LOCATION:ON-LINE
PRIORITY:3
TRANSP:0
END:VEVENT
END:VCALENDAR
