BEGIN:VCALENDAR
PRODID:-//AT Content Types//AT Event//EN
VERSION:2.0
METHOD:PUBLISH
BEGIN:VEVENT
DTSTAMP:20260424T000855Z
CREATED:20210426T185007Z
UID:ATEvent-f631cf07b5bf4f3f828e7cdf0ab2adc6
LAST-MODIFIED:20210831T140732Z
SUMMARY:Construção e Desmonte dos Direitos Humanos e Políticas para Mulheres no Brasil
DTSTART:20210514T180000Z
DTEND:20210514T203000Z
LOCATION:On-line
CATEGORIES:Evento público, Memória, Evento online, Direitos humanos, Diversidade, Igualdade, Grupo de Pesquisa Direitos Humanos, Democracia e Memória, Mulheres
CONTACT:Sandra Sedini\, sedini@usp.br
CLASS:PUBLIC
END:VEVENT
END:VCALENDAR
