BEGIN:VCALENDAR
PRODID:-//AT Content Types//AT Event//EN
VERSION:2.0
METHOD:PUBLISH
BEGIN:VEVENT
DTSTAMP:20260423T193605Z
CREATED:20220823T164855Z
UID:ATEvent-ccef58d608444c45bb271dd69fe33aec
LAST-MODIFIED:20220902T135638Z
SUMMARY:Continuidade e Ruptura na Construção Nacional do Brasil
DTSTART:20220912T120000Z
DTEND:20220912T150000Z
LOCATION:On-line
CATEGORIES:Política, Evento público, Brasil, Democracia, Grupo de Pesquisa Economia Política Internacional, Variedades de Democracia e Descarbonização, Evento online
CONTACT:Larissa Cruz\, larissabcruz@usp.br
CLASS:PUBLIC
END:VEVENT
END:VCALENDAR
