BEGIN:VCALENDAR
PRODID:-//AT Content Types//AT Event//EN
VERSION:1.0
BEGIN:VEVENT
DTSTART:20190527T180000Z
DTEND:20190527T200000Z
DCREATED:20190507T185047Z
UID:ATEvent-ff68e1d7caf6433bb61dfddf95bd5912
SEQUENCE:0
LAST-MODIFIED:20190923T164922Z
SUMMARY:Conversa sobre a História da Terra
LOCATION:Sala Alfredo Bosi\, Rua da Praça do Relógio\, 109\, térreo\, Cidade Universitária\, São Paulo
PRIORITY:3
TRANSP:0
END:VEVENT
END:VCALENDAR
