BEGIN:VCALENDAR
PRODID:-//AT Content Types//AT Event//EN
VERSION:1.0
BEGIN:VEVENT
DTSTART:20250331T173000Z
DTEND:20250331T193000Z
DCREATED:20250225T113223Z
UID:ATEvent-10ed687d0f4145e781d220c3d7317f23
SEQUENCE:0
LAST-MODIFIED:20250407T175548Z
SUMMARY:Sobre Teatro\, de Antonio Cândido - Conversa sobre Livros
LOCATION:Sala Alfredo Bosi\, Rua Praça do Relógio\, 109\, Cidade Universitária\, ~São Paulo
PRIORITY:3
TRANSP:0
END:VEVENT
END:VCALENDAR
