BEGIN:VCALENDAR
PRODID:-//AT Content Types//AT Event//EN
VERSION:2.0
METHOD:PUBLISH
BEGIN:VEVENT
DTSTAMP:20260423T092203Z
CREATED:20231208T100838Z
UID:ATEvent-679836b69ca7471aaaff57d5c12de7fb
LAST-MODIFIED:20231221T165751Z
SUMMARY:COP 28: Debates sobre Alcances\, Avanços e Desafios
DTSTART:20231220T120000Z
DTEND:20231220T140000Z
LOCATION:On-line
CATEGORIES:Grupo de Pesquisa Meio Ambiente e Sociedade, Evento público, Sustentabilidade, Evento online, Meio Ambiente, ODS, Política Ambiental
CONTACT:Sandra Sedini\, sedini@usp.br
CLASS:PUBLIC
END:VEVENT
END:VCALENDAR
