BEGIN:VCALENDAR
PRODID:-//AT Content Types//AT Event//EN
VERSION:2.0
METHOD:PUBLISH
BEGIN:VEVENT
DTSTAMP:20260425T150733Z
CREATED:20210525T182641Z
UID:ATEvent-84503da78e554a008c534b2816e5cb3a
LAST-MODIFIED:20210610T112156Z
SUMMARY:COVID-19 e Urbanidade: Aprendizados e Perspectivas Futuras
DTSTART:20210610T120000Z
DTEND:20210610T153000Z
LOCATION:ON-LINE
CATEGORIES:Evento público, Evento online, Covid-19, Vacinas, Epidemias, Grupo de Estudo Espaço Urbano e Saúde
CONTACT:Cláudia R. Pereira\, 11 3091-1686\, clauregi@usp.br
URL:http://www.iea.usp.br/aovivo
CLASS:PUBLIC
END:VEVENT
END:VCALENDAR
