BEGIN:VCALENDAR
PRODID:-//AT Content Types//AT Event//EN
VERSION:1.0
BEGIN:VEVENT
DTSTART:20230919T180000Z
DTEND:20230919T200000Z
DCREATED:20230913T161737Z
UID:ATEvent-4edd1f4584b44d17bf03c5afacec9f2e
SEQUENCE:0
LAST-MODIFIED:20230915T172128Z
SUMMARY:Decidir Hoje os Direitos da Cidade do Amanhã: Diversa e Colaborativa?
LOCATION:On-line
PRIORITY:3
TRANSP:0
END:VEVENT
END:VCALENDAR
