BEGIN:VCALENDAR
PRODID:-//AT Content Types//AT Event//EN
VERSION:2.0
METHOD:PUBLISH
BEGIN:VEVENT
DTSTAMP:20260421T053224Z
CREATED:20241016T190808Z
UID:ATEvent-e3feb3cda2f54f7ea4f2aeb87d76d169
LAST-MODIFIED:20241017T135449Z
SUMMARY:Roda de Conversa Desafios da Questão Indígena
DTSTART:20241021T120000Z
DTEND:20241021T210000Z
CATEGORIES:Evento público, Indígenas, Cultura, Cátedra Olavo Setubal, Florestas, Conhecimento, Evento interno
CONTACT:Sandra Sedini\, sedini@usp.br
CLASS:PUBLIC
END:VEVENT
END:VCALENDAR
