BEGIN:VCALENDAR
PRODID:-//AT Content Types//AT Event//EN
VERSION:2.0
METHOD:PUBLISH
BEGIN:VEVENT
DTSTAMP:20260425T215432Z
CREATED:20200422T183601Z
UID:ATEvent-5fd58c7dbab545b7b8cf961248dcced4
LAST-MODIFIED:20200422T185754Z
SUMMARY:Os Desafios da Sociedade Não Têm Fronteiras: Impacto da Pesquisa Acadêmica Interdisciplinar em Políticas Públicas
DTSTART:20200423T120000Z
DTEND:20200423T150000Z
LOCATION:On-line
CATEGORIES:Evento público, Evento online, Interdisciplinaridade, Pesquisa, Políticas Públicas
URL:https://youtu.be/mUqHfOyd7hY
CLASS:PUBLIC
END:VEVENT
END:VCALENDAR
