BEGIN:VCALENDAR
PRODID:-//AT Content Types//AT Event//EN
VERSION:2.0
METHOD:PUBLISH
BEGIN:VEVENT
DTSTAMP:20260423T133013Z
CREATED:20220324T182517Z
UID:ATEvent-bd7df9126b364ae58910da1d8636383a
LAST-MODIFIED:20220328T111853Z
SUMMARY:Desinformação\, Desigualdades de Comunicação e Regulação
DTSTART:20220408T170000Z
DTEND:20220408T190000Z
LOCATION:ON-LINE
CATEGORIES:Grupo de Pesquisa Jornalismo, Direito e Liberdade, Evento público, Evento online, Comunicação
CONTACT:Cláudia R. Pereira\, 11 3091-1686\, clauregi@usp.br
CLASS:PUBLIC
END:VEVENT
END:VCALENDAR
