BEGIN:VCALENDAR
PRODID:-//AT Content Types//AT Event//EN
VERSION:2.0
METHOD:PUBLISH
BEGIN:VEVENT
DTSTAMP:20260420T045008Z
CREATED:20180403T133143Z
UID:ATEvent-488e3e2364ce4a5a94bce8dcce5a7a38
LAST-MODIFIED:20180713T143819Z
SUMMARY:Diálogo e Intersubjetividade em Clínica: Contribuições da Filosofia de Martin Buber
DTSTART:20180625T170000Z
DTEND:20180625T210000Z
LOCATION:Sala Alfredo Bosi\, Rua da Praça do Relógio\, 109\,  Cidade Universitária\, São Paulo
CATEGORIES:Filosofia da Ciência, Evento público, Psicologia, Saúde, Pesquisa, Ser Humano, Medicina, Filosofia
CONTACT:Sandra Sedini\, 11 3091-1678\, sedini@usp.br
URL:http://www.iea.usp.br/aovivo
CLASS:PUBLIC
END:VEVENT
END:VCALENDAR
