BEGIN:VCALENDAR
PRODID:-//AT Content Types//AT Event//EN
VERSION:1.0
BEGIN:VEVENT
DTSTART:20241003T170000Z
DTEND:20241003T183000Z
DCREATED:20240624T163601Z
UID:ATEvent-b9299c39f566456580d025bacd7bc50d
SEQUENCE:0
LAST-MODIFIED:20241118T134129Z
SUMMARY:Diálogos para o Futuro: Transição Energética e ODS7 - Inovações Tecnológicas e Comunicação Estratégica na Transição Energética
LOCATION:IEA\, Sala Alfredo Bosi\, Rua Praça do Relógio\, 109\, térreo\, Cidade Universitária\, São Paulo
PRIORITY:3
TRANSP:0
END:VEVENT
END:VCALENDAR
