BEGIN:VCALENDAR
PRODID:-//AT Content Types//AT Event//EN
VERSION:1.0
BEGIN:VEVENT
DTSTART:20250627T170000Z
DTEND:20250627T200000Z
DCREATED:20250602T180302Z
UID:ATEvent-5a5570900a004279819f810138f2d4a1
SEQUENCE:0
LAST-MODIFIED:20251216T135013Z
SUMMARY:Diálogos Setoriais para uma Transição Econômica Verde Sustentável - Desafios e Oportunidades no Setor da Indústria de Transformação
LOCATION:(*) IEA\, Sala Alfredo Bosi\, Rua da Praça do Relógio\, 109\, térreo\, Cidade Universitária\, São Paulo\, SP
PRIORITY:3
TRANSP:0
END:VEVENT
END:VCALENDAR
