BEGIN:VCALENDAR
PRODID:-//AT Content Types//AT Event//EN
VERSION:1.0
BEGIN:VEVENT
DTSTART:20250512T170000Z
DTEND:20250512T200000Z
DCREATED:20250428T124733Z
UID:ATEvent-b23cb8001ca14c01b01ef46bc6c15d79
SEQUENCE:0
LAST-MODIFIED:20250701T122757Z
SUMMARY:Diálogos Setoriais para uma Transição Econômica Verde Sustentável - Reflorestamento
LOCATION:(*) IEA\, Sala Alfredo Bosi\, Rua da Praça do Relógio\, 109\, térreo\, Cidade Universitária\, São Paulo\, SP
PRIORITY:3
TRANSP:0
END:VEVENT
END:VCALENDAR
