BEGIN:VCALENDAR
PRODID:-//AT Content Types//AT Event//EN
VERSION:2.0
METHOD:PUBLISH
BEGIN:VEVENT
DTSTAMP:20260419T181347Z
CREATED:20160315T140305Z
UID:ATEvent-b1e515aa975d4b9c915b0d7caf53b42f
LAST-MODIFIED:20180511T125846Z
SUMMARY:O Direito de Beneficiar-se do Avanço da Ciência da Declaração Universal dos Direitos Humanos
DTSTART:20160613T170000Z
DTEND:20160613T200000Z
LOCATION:Sala Ruy Leme\, Administração-FEA/USP\, Av. Prof. Luciano Gualberto\, 908\, 1º andar\, Cidade Universitária\, São Paulo
CATEGORIES:Evento público, Grupo de Pesquisa Filosofia, História e Sociologia da Ciência e da Tecnologia
CONTACT:Cláudia R. Tavares\, (11) 3818-4242\, clauregi@usp.br
URL:http://www.iea.usp.br/aovivo
CLASS:PUBLIC
END:VEVENT
END:VCALENDAR
