BEGIN:VCALENDAR
PRODID:-//AT Content Types//AT Event//EN
VERSION:1.0
BEGIN:VEVENT
DTSTART:20230511T200000Z
DTEND:20230511T223000Z
DCREATED:20230505T193114Z
UID:ATEvent-ede0a25d362544668482c1cc47fbd06c
SEQUENCE:0
LAST-MODIFIED:20230505T193123Z
SUMMARY:Doença de Alzheimer: onde estamos?
LOCATION:Espaço de Eventos do IEA-RP
PRIORITY:3
TRANSP:0
END:VEVENT
END:VCALENDAR
