BEGIN:VCALENDAR
PRODID:-//AT Content Types//AT Event//EN
VERSION:1.0
BEGIN:VEVENT
DTSTART:20250506T220000Z
DTEND:20250507T000000Z
DCREATED:20250429T122258Z
UID:ATEvent-59004b8cf590418e9827bd76c338a882
SEQUENCE:0
LAST-MODIFIED:20250722T200602Z
SUMMARY:Jogos para Exercitar o Pensamento Hipotético-Dedutivo
LOCATION:ON-LINE
PRIORITY:3
TRANSP:0
END:VEVENT
END:VCALENDAR
