BEGIN:VCALENDAR
PRODID:-//AT Content Types//AT Event//EN
VERSION:2.0
METHOD:PUBLISH
BEGIN:VEVENT
DTSTAMP:20260421T130333Z
CREATED:20250805T172139Z
UID:ATEvent-e2911eb3d61c43fb9729922d28273761
LAST-MODIFIED:20251104T172814Z
SUMMARY:Educação para o Trabalho
DTSTART:20251104T210000Z
DTEND:20251104T230000Z
LOCATION:ON-LINE
CATEGORIES:Licenciatura, Cátedra de Educação Básica, Evento público, Educação
CONTACT:Isabella Giovannoni\, cebcomunica@usp.br
CLASS:PUBLIC
END:VEVENT
END:VCALENDAR
