BEGIN:VCALENDAR
PRODID:-//AT Content Types//AT Event//EN
VERSION:2.0
METHOD:PUBLISH
BEGIN:VEVENT
DTSTAMP:20260423T120522Z
CREATED:20170719T212647Z
UID:ATEvent-7e0eb58732cc4fc89beb678907c214f7
LAST-MODIFIED:20170804T220924Z
SUMMARY:A Nova Ordem na Educação em Engenharia: Desafios e Perspectivas
DTSTART:20170914T123000Z
DTEND:20170914T150000Z
LOCATION:Auditório da Engenharia Mecânica - EP-USP\, Av. Prof. Mello Moraes\, 2231\, Butantã\, São Paulo\, SP
CATEGORIES:Educação, Evento público, Brasil, Ensino Superior, Engenharia, Universidade
CONTACT:Sandra Sedini\, (11) 3091-1678\, sedini@usp.br
URL:http://www.iea.usp.br/aovivo
CLASS:PUBLIC
END:VEVENT
END:VCALENDAR
