BEGIN:VCALENDAR
PRODID:-//AT Content Types//AT Event//EN
VERSION:2.0
METHOD:PUBLISH
BEGIN:VEVENT
DTSTAMP:20260423T122406Z
CREATED:20250603T184211Z
UID:ATEvent-22af334609fc4ee0acb8ef470ff67339
LAST-MODIFIED:20251204T132912Z
SUMMARY:Diretrizes de Longo Prazo em Educação\, Tecnologia e Inovação no Estado do Piauí
DTSTART:20250618T170000Z
DTEND:20250618T190000Z
LOCATION:Auditório da Folha (Alameda Barão de Limeira\, 425 - 9º andar - Campos Eliseos)
CATEGORIES:Educação, Evento público, Tecnologia, Ciência, Cátedra Otavio Frias Filho
CONTACT:Cláudia R. Pereira\, 11 3091-1686\, clauregi@usp.br
URL:https://www.youtube.com/watch?v=rt2SRD4UApk
CLASS:PUBLIC
END:VEVENT
END:VCALENDAR
